BEGIN:VCALENDAR
VERSION:2.0
PRODID:-//Ozark Gateway - ECPv6.15.20//NONSGML v1.0//EN
CALSCALE:GREGORIAN
METHOD:PUBLISH
X-WR-CALNAME:Ozark Gateway
X-ORIGINAL-URL:https://www.ozarkgateway.com
X-WR-CALDESC:Events for Ozark Gateway
REFRESH-INTERVAL;VALUE=DURATION:PT1H
X-Robots-Tag:noindex
X-PUBLISHED-TTL:PT1H
BEGIN:VTIMEZONE
TZID:America/Chicago
BEGIN:DAYLIGHT
TZOFFSETFROM:-0600
TZOFFSETTO:-0500
TZNAME:CDT
DTSTART:20250309T080000
END:DAYLIGHT
BEGIN:STANDARD
TZOFFSETFROM:-0500
TZOFFSETTO:-0600
TZNAME:CST
DTSTART:20251102T070000
END:STANDARD
BEGIN:DAYLIGHT
TZOFFSETFROM:-0600
TZOFFSETTO:-0500
TZNAME:CDT
DTSTART:20260308T080000
END:DAYLIGHT
BEGIN:STANDARD
TZOFFSETFROM:-0500
TZOFFSETTO:-0600
TZNAME:CST
DTSTART:20261101T070000
END:STANDARD
BEGIN:DAYLIGHT
TZOFFSETFROM:-0600
TZOFFSETTO:-0500
TZNAME:CDT
DTSTART:20270314T080000
END:DAYLIGHT
BEGIN:STANDARD
TZOFFSETFROM:-0500
TZOFFSETTO:-0600
TZNAME:CST
DTSTART:20271107T070000
END:STANDARD
BEGIN:DAYLIGHT
TZOFFSETFROM:-0600
TZOFFSETTO:-0500
TZNAME:CDT
DTSTART:20280312T080000
END:DAYLIGHT
BEGIN:STANDARD
TZOFFSETFROM:-0500
TZOFFSETTO:-0600
TZNAME:CST
DTSTART:20281105T070000
END:STANDARD
END:VTIMEZONE
BEGIN:VEVENT
DTSTART;TZID=America/Chicago:20260516T080000
DTEND;TZID=America/Chicago:20261003T120000
DTSTAMP:20260422T025612
CREATED:20251118T161650Z
LAST-MODIFIED:20251118T161650Z
UID:10000551-1778918400-1791028800@www.ozarkgateway.com
SUMMARY:Searcy Farmers' Market
DESCRIPTION:Discover the Searcy Farmers Market in Downtown Searcy\, a vibrant local market where farmers\, artisans\, and small businesses come together each week. Visitors can shop fresh Arkansas produce\, handmade goods\, baked treats\, and seasonal favorites while enjoying a welcoming community atmosphere. Whether you’re exploring downtown Searcy\, looking for fresh local food\, or wanting to support Arkansas farmers and makers\, the Searcy Farmers Market is a must-visit destination.
URL:https://www.ozarkgateway.com/event/searcy-farmers-market/2026-05-16/
LOCATION:Downtown Searcy\, 200 W. Race St.\, Searcy\, AR\, United States
END:VEVENT
BEGIN:VEVENT
DTSTART;TZID=America/Chicago:20260523T080000
DTEND;TZID=America/Chicago:20261010T120000
DTSTAMP:20260422T025612
CREATED:20251118T161650Z
LAST-MODIFIED:20251118T161650Z
UID:10000552-1779523200-1791633600@www.ozarkgateway.com
SUMMARY:Searcy Farmers' Market
DESCRIPTION:Discover the Searcy Farmers Market in Downtown Searcy\, a vibrant local market where farmers\, artisans\, and small businesses come together each week. Visitors can shop fresh Arkansas produce\, handmade goods\, baked treats\, and seasonal favorites while enjoying a welcoming community atmosphere. Whether you’re exploring downtown Searcy\, looking for fresh local food\, or wanting to support Arkansas farmers and makers\, the Searcy Farmers Market is a must-visit destination.
URL:https://www.ozarkgateway.com/event/searcy-farmers-market/2026-05-23/
LOCATION:Downtown Searcy\, 200 W. Race St.\, Searcy\, AR\, United States
END:VEVENT
BEGIN:VEVENT
DTSTART;TZID=America/Chicago:20260530T080000
DTEND;TZID=America/Chicago:20261017T120000
DTSTAMP:20260422T025612
CREATED:20251118T161650Z
LAST-MODIFIED:20251118T161650Z
UID:10000553-1780128000-1792238400@www.ozarkgateway.com
SUMMARY:Searcy Farmers' Market
DESCRIPTION:Discover the Searcy Farmers Market in Downtown Searcy\, a vibrant local market where farmers\, artisans\, and small businesses come together each week. Visitors can shop fresh Arkansas produce\, handmade goods\, baked treats\, and seasonal favorites while enjoying a welcoming community atmosphere. Whether you’re exploring downtown Searcy\, looking for fresh local food\, or wanting to support Arkansas farmers and makers\, the Searcy Farmers Market is a must-visit destination.
URL:https://www.ozarkgateway.com/event/searcy-farmers-market/2026-05-30/
LOCATION:Downtown Searcy\, 200 W. Race St.\, Searcy\, AR\, United States
END:VEVENT
BEGIN:VEVENT
DTSTART;TZID=America/Chicago:20260606T080000
DTEND;TZID=America/Chicago:20261024T120000
DTSTAMP:20260422T025612
CREATED:20251118T161650Z
LAST-MODIFIED:20251118T161650Z
UID:10000554-1780732800-1792843200@www.ozarkgateway.com
SUMMARY:Searcy Farmers' Market
DESCRIPTION:Discover the Searcy Farmers Market in Downtown Searcy\, a vibrant local market where farmers\, artisans\, and small businesses come together each week. Visitors can shop fresh Arkansas produce\, handmade goods\, baked treats\, and seasonal favorites while enjoying a welcoming community atmosphere. Whether you’re exploring downtown Searcy\, looking for fresh local food\, or wanting to support Arkansas farmers and makers\, the Searcy Farmers Market is a must-visit destination.
URL:https://www.ozarkgateway.com/event/searcy-farmers-market/2026-06-06/
LOCATION:Downtown Searcy\, 200 W. Race St.\, Searcy\, AR\, United States
END:VEVENT
BEGIN:VEVENT
DTSTART;TZID=America/Chicago:20260613T080000
DTEND;TZID=America/Chicago:20261031T120000
DTSTAMP:20260422T025612
CREATED:20251118T161650Z
LAST-MODIFIED:20251118T161650Z
UID:10000555-1781337600-1793448000@www.ozarkgateway.com
SUMMARY:Searcy Farmers' Market
DESCRIPTION:Discover the Searcy Farmers Market in Downtown Searcy\, a vibrant local market where farmers\, artisans\, and small businesses come together each week. Visitors can shop fresh Arkansas produce\, handmade goods\, baked treats\, and seasonal favorites while enjoying a welcoming community atmosphere. Whether you’re exploring downtown Searcy\, looking for fresh local food\, or wanting to support Arkansas farmers and makers\, the Searcy Farmers Market is a must-visit destination.
URL:https://www.ozarkgateway.com/event/searcy-farmers-market/2026-06-13/
LOCATION:Downtown Searcy\, 200 W. Race St.\, Searcy\, AR\, United States
END:VEVENT
BEGIN:VEVENT
DTSTART;TZID=America/Chicago:20260620T080000
DTEND;TZID=America/Chicago:20261107T110000
DTSTAMP:20260422T025612
CREATED:20251118T161650Z
LAST-MODIFIED:20251118T161650Z
UID:10000556-1781942400-1794049200@www.ozarkgateway.com
SUMMARY:Searcy Farmers' Market
DESCRIPTION:Discover the Searcy Farmers Market in Downtown Searcy\, a vibrant local market where farmers\, artisans\, and small businesses come together each week. Visitors can shop fresh Arkansas produce\, handmade goods\, baked treats\, and seasonal favorites while enjoying a welcoming community atmosphere. Whether you’re exploring downtown Searcy\, looking for fresh local food\, or wanting to support Arkansas farmers and makers\, the Searcy Farmers Market is a must-visit destination.
URL:https://www.ozarkgateway.com/event/searcy-farmers-market/2026-06-20/
LOCATION:Downtown Searcy\, 200 W. Race St.\, Searcy\, AR\, United States
END:VEVENT
BEGIN:VEVENT
DTSTART;TZID=America/Chicago:20260627T080000
DTEND;TZID=America/Chicago:20261114T110000
DTSTAMP:20260422T025612
CREATED:20251118T161650Z
LAST-MODIFIED:20251118T161650Z
UID:10000557-1782547200-1794654000@www.ozarkgateway.com
SUMMARY:Searcy Farmers' Market
DESCRIPTION:Discover the Searcy Farmers Market in Downtown Searcy\, a vibrant local market where farmers\, artisans\, and small businesses come together each week. Visitors can shop fresh Arkansas produce\, handmade goods\, baked treats\, and seasonal favorites while enjoying a welcoming community atmosphere. Whether you’re exploring downtown Searcy\, looking for fresh local food\, or wanting to support Arkansas farmers and makers\, the Searcy Farmers Market is a must-visit destination.
URL:https://www.ozarkgateway.com/event/searcy-farmers-market/2026-06-27/
LOCATION:Downtown Searcy\, 200 W. Race St.\, Searcy\, AR\, United States
END:VEVENT
BEGIN:VEVENT
DTSTART;TZID=America/Chicago:20260704T080000
DTEND;TZID=America/Chicago:20261121T110000
DTSTAMP:20260422T025612
CREATED:20251118T161650Z
LAST-MODIFIED:20251118T161650Z
UID:10000558-1783152000-1795258800@www.ozarkgateway.com
SUMMARY:Searcy Farmers' Market
DESCRIPTION:Discover the Searcy Farmers Market in Downtown Searcy\, a vibrant local market where farmers\, artisans\, and small businesses come together each week. Visitors can shop fresh Arkansas produce\, handmade goods\, baked treats\, and seasonal favorites while enjoying a welcoming community atmosphere. Whether you’re exploring downtown Searcy\, looking for fresh local food\, or wanting to support Arkansas farmers and makers\, the Searcy Farmers Market is a must-visit destination.
URL:https://www.ozarkgateway.com/event/searcy-farmers-market/2026-07-04/
LOCATION:Downtown Searcy\, 200 W. Race St.\, Searcy\, AR\, United States
END:VEVENT
BEGIN:VEVENT
DTSTART;TZID=America/Chicago:20260711T080000
DTEND;TZID=America/Chicago:20261128T110000
DTSTAMP:20260422T025612
CREATED:20251118T161650Z
LAST-MODIFIED:20251118T161650Z
UID:10000559-1783756800-1795863600@www.ozarkgateway.com
SUMMARY:Searcy Farmers' Market
DESCRIPTION:Discover the Searcy Farmers Market in Downtown Searcy\, a vibrant local market where farmers\, artisans\, and small businesses come together each week. Visitors can shop fresh Arkansas produce\, handmade goods\, baked treats\, and seasonal favorites while enjoying a welcoming community atmosphere. Whether you’re exploring downtown Searcy\, looking for fresh local food\, or wanting to support Arkansas farmers and makers\, the Searcy Farmers Market is a must-visit destination.
URL:https://www.ozarkgateway.com/event/searcy-farmers-market/2026-07-11/
LOCATION:Downtown Searcy\, 200 W. Race St.\, Searcy\, AR\, United States
END:VEVENT
BEGIN:VEVENT
DTSTART;TZID=America/Chicago:20260718T080000
DTEND;TZID=America/Chicago:20261205T110000
DTSTAMP:20260422T025612
CREATED:20251118T161650Z
LAST-MODIFIED:20251118T161650Z
UID:10000560-1784361600-1796468400@www.ozarkgateway.com
SUMMARY:Searcy Farmers' Market
DESCRIPTION:Discover the Searcy Farmers Market in Downtown Searcy\, a vibrant local market where farmers\, artisans\, and small businesses come together each week. Visitors can shop fresh Arkansas produce\, handmade goods\, baked treats\, and seasonal favorites while enjoying a welcoming community atmosphere. Whether you’re exploring downtown Searcy\, looking for fresh local food\, or wanting to support Arkansas farmers and makers\, the Searcy Farmers Market is a must-visit destination.
URL:https://www.ozarkgateway.com/event/searcy-farmers-market/2026-07-18/
LOCATION:Downtown Searcy\, 200 W. Race St.\, Searcy\, AR\, United States
END:VEVENT
BEGIN:VEVENT
DTSTART;TZID=America/Chicago:20260725T080000
DTEND;TZID=America/Chicago:20261212T110000
DTSTAMP:20260422T025612
CREATED:20251118T161650Z
LAST-MODIFIED:20251118T161650Z
UID:10000561-1784966400-1797073200@www.ozarkgateway.com
SUMMARY:Searcy Farmers' Market
DESCRIPTION:Discover the Searcy Farmers Market in Downtown Searcy\, a vibrant local market where farmers\, artisans\, and small businesses come together each week. Visitors can shop fresh Arkansas produce\, handmade goods\, baked treats\, and seasonal favorites while enjoying a welcoming community atmosphere. Whether you’re exploring downtown Searcy\, looking for fresh local food\, or wanting to support Arkansas farmers and makers\, the Searcy Farmers Market is a must-visit destination.
URL:https://www.ozarkgateway.com/event/searcy-farmers-market/2026-07-25/
LOCATION:Downtown Searcy\, 200 W. Race St.\, Searcy\, AR\, United States
END:VEVENT
BEGIN:VEVENT
DTSTART;TZID=America/Chicago:20260801T080000
DTEND;TZID=America/Chicago:20261219T110000
DTSTAMP:20260422T025612
CREATED:20251118T161650Z
LAST-MODIFIED:20251118T161650Z
UID:10000562-1785571200-1797678000@www.ozarkgateway.com
SUMMARY:Searcy Farmers' Market
DESCRIPTION:Discover the Searcy Farmers Market in Downtown Searcy\, a vibrant local market where farmers\, artisans\, and small businesses come together each week. Visitors can shop fresh Arkansas produce\, handmade goods\, baked treats\, and seasonal favorites while enjoying a welcoming community atmosphere. Whether you’re exploring downtown Searcy\, looking for fresh local food\, or wanting to support Arkansas farmers and makers\, the Searcy Farmers Market is a must-visit destination.
URL:https://www.ozarkgateway.com/event/searcy-farmers-market/2026-08-01/
LOCATION:Downtown Searcy\, 200 W. Race St.\, Searcy\, AR\, United States
END:VEVENT
BEGIN:VEVENT
DTSTART;TZID=America/Chicago:20260808T080000
DTEND;TZID=America/Chicago:20261226T110000
DTSTAMP:20260422T025612
CREATED:20251118T161650Z
LAST-MODIFIED:20251118T161650Z
UID:10000563-1786176000-1798282800@www.ozarkgateway.com
SUMMARY:Searcy Farmers' Market
DESCRIPTION:Discover the Searcy Farmers Market in Downtown Searcy\, a vibrant local market where farmers\, artisans\, and small businesses come together each week. Visitors can shop fresh Arkansas produce\, handmade goods\, baked treats\, and seasonal favorites while enjoying a welcoming community atmosphere. Whether you’re exploring downtown Searcy\, looking for fresh local food\, or wanting to support Arkansas farmers and makers\, the Searcy Farmers Market is a must-visit destination.
URL:https://www.ozarkgateway.com/event/searcy-farmers-market/2026-08-08/
LOCATION:Downtown Searcy\, 200 W. Race St.\, Searcy\, AR\, United States
END:VEVENT
BEGIN:VEVENT
DTSTART;TZID=America/Chicago:20260815T080000
DTEND;TZID=America/Chicago:20270102T110000
DTSTAMP:20260422T025612
CREATED:20251118T161650Z
LAST-MODIFIED:20251118T161650Z
UID:10000564-1786780800-1798887600@www.ozarkgateway.com
SUMMARY:Searcy Farmers' Market
DESCRIPTION:Discover the Searcy Farmers Market in Downtown Searcy\, a vibrant local market where farmers\, artisans\, and small businesses come together each week. Visitors can shop fresh Arkansas produce\, handmade goods\, baked treats\, and seasonal favorites while enjoying a welcoming community atmosphere. Whether you’re exploring downtown Searcy\, looking for fresh local food\, or wanting to support Arkansas farmers and makers\, the Searcy Farmers Market is a must-visit destination.
URL:https://www.ozarkgateway.com/event/searcy-farmers-market/2026-08-15/
LOCATION:Downtown Searcy\, 200 W. Race St.\, Searcy\, AR\, United States
END:VEVENT
BEGIN:VEVENT
DTSTART;TZID=America/Chicago:20260822T080000
DTEND;TZID=America/Chicago:20270109T110000
DTSTAMP:20260422T025612
CREATED:20251118T161650Z
LAST-MODIFIED:20251118T161650Z
UID:10000565-1787385600-1799492400@www.ozarkgateway.com
SUMMARY:Searcy Farmers' Market
DESCRIPTION:Discover the Searcy Farmers Market in Downtown Searcy\, a vibrant local market where farmers\, artisans\, and small businesses come together each week. Visitors can shop fresh Arkansas produce\, handmade goods\, baked treats\, and seasonal favorites while enjoying a welcoming community atmosphere. Whether you’re exploring downtown Searcy\, looking for fresh local food\, or wanting to support Arkansas farmers and makers\, the Searcy Farmers Market is a must-visit destination.
URL:https://www.ozarkgateway.com/event/searcy-farmers-market/2026-08-22/
LOCATION:Downtown Searcy\, 200 W. Race St.\, Searcy\, AR\, United States
END:VEVENT
BEGIN:VEVENT
DTSTART;TZID=America/Chicago:20260829T080000
DTEND;TZID=America/Chicago:20270116T110000
DTSTAMP:20260422T025612
CREATED:20251118T161650Z
LAST-MODIFIED:20251118T161650Z
UID:10000566-1787990400-1800097200@www.ozarkgateway.com
SUMMARY:Searcy Farmers' Market
DESCRIPTION:Discover the Searcy Farmers Market in Downtown Searcy\, a vibrant local market where farmers\, artisans\, and small businesses come together each week. Visitors can shop fresh Arkansas produce\, handmade goods\, baked treats\, and seasonal favorites while enjoying a welcoming community atmosphere. Whether you’re exploring downtown Searcy\, looking for fresh local food\, or wanting to support Arkansas farmers and makers\, the Searcy Farmers Market is a must-visit destination.
URL:https://www.ozarkgateway.com/event/searcy-farmers-market/2026-08-29/
LOCATION:Downtown Searcy\, 200 W. Race St.\, Searcy\, AR\, United States
END:VEVENT
BEGIN:VEVENT
DTSTART;TZID=America/Chicago:20261002T190000
DTEND;TZID=America/Chicago:20261002T230000
DTSTAMP:20260422T025612
CREATED:20260404T165304Z
LAST-MODIFIED:20260404T165304Z
UID:10000845-1790967600-1790982000@www.ozarkgateway.com
SUMMARY:Bethesda Haunted House
DESCRIPTION:  \nBethesda will be having their annual haunted house every Friday and Saturday night in October including Halloween Night. Tickets are $10 a person and doors open at 7pm.
URL:https://www.ozarkgateway.com/event/bethesda-haunted-house/2026-10-02/
END:VEVENT
BEGIN:VEVENT
DTSTART;TZID=America/Chicago:20261003T080000
DTEND;TZID=America/Chicago:20261003T120000
DTSTAMP:20260422T025612
CREATED:20260416T190330Z
LAST-MODIFIED:20260416T190330Z
UID:10000888-1791014400-1791028800@www.ozarkgateway.com
SUMMARY:Cave City Farmers Market
DESCRIPTION:The Cave City Farmers Market will begin in July and end during the holidays. They will be held every Saturday at Leonas Garden from 8 am to Noon.
URL:https://www.ozarkgateway.com/event/cave-city-farmers-market/2026-10-03/
END:VEVENT
BEGIN:VEVENT
DTSTART;TZID=America/Chicago:20261003T080000
DTEND;TZID=America/Chicago:20261003T170000
DTSTAMP:20260422T025612
CREATED:20260106T175103Z
LAST-MODIFIED:20260106T175103Z
UID:10000601-1791014400-1791046800@www.ozarkgateway.com
SUMMARY:Calico Rock First Saturday March-November onb Main Street
DESCRIPTION:
URL:https://www.ozarkgateway.com/event/calico-rock-first-saturday-march-november-onb-main-street/2026-10-03/
LOCATION:Calico Rock Main Street\, Main Street - Historical District\, Calico Rock\, AR\, 72519\, United States
END:VEVENT
BEGIN:VEVENT
DTSTART;TZID=America/Chicago:20261003T080000
DTEND;TZID=America/Chicago:20261003T170000
DTSTAMP:20260422T025612
CREATED:20260107T204537Z
LAST-MODIFIED:20260107T204537Z
UID:10000634-1791014400-1791046800@www.ozarkgateway.com
SUMMARY:Hardy Arkansas Music on Main
DESCRIPTION:Memorial Day-October \nMusic on Main \nSaturdays at 7:00 p.m. \nDr. Thompson Park
URL:https://www.ozarkgateway.com/event/hardy-arkansas-music-on-main/2026-10-03/
END:VEVENT
BEGIN:VEVENT
DTSTART;TZID=America/Chicago:20261003T090000
DTEND;TZID=America/Chicago:20261003T130000
DTSTAMP:20260422T025612
CREATED:20260319T083341Z
LAST-MODIFIED:20260319T083341Z
UID:10000803-1791018000-1791032400@www.ozarkgateway.com
SUMMARY:Batesville Farmers Market
DESCRIPTION:Starting April 18\, the Downtown Batesville Farmers Market returns — bringing organic goodness\, local growers\, handmade goods\, and plenty of sunshine back to Main Street.\nGrab your tote bags\, Downtowners… market mornings are almost here.
URL:https://www.ozarkgateway.com/event/batesville-farmers-market/2026-10-03/
END:VEVENT
BEGIN:VEVENT
DTSTART;TZID=America/Chicago:20261003T130000
DTEND;TZID=America/Chicago:20261003T180000
DTSTAMP:20260422T025612
CREATED:20260401T000214Z
LAST-MODIFIED:20260401T000214Z
UID:10000823-1791032400-1791050400@www.ozarkgateway.com
SUMMARY:Mammoth Spring Birds of Prey
DESCRIPTION:Mammoth Spring Birds of Prey will be located at Mammoth Spring State Park on October 3 at 1pm. This event is free to the public. \n 
URL:https://www.ozarkgateway.com/event/mammoth-spring-birds-of-prey/
END:VEVENT
BEGIN:VEVENT
DTSTART;TZID=America/Chicago:20261003T190000
DTEND;TZID=America/Chicago:20261003T220000
DTSTAMP:20260422T025612
CREATED:20260318T211756Z
LAST-MODIFIED:20260318T211959Z
UID:10000758-1791054000-1791064800@www.ozarkgateway.com
SUMMARY:Music on Main
DESCRIPTION:Two nights of Music on Main in Dr. Thompson Park\, Saturday and Sunday at 7:00 p.m.\, acts to be announced. \nSeason runs weekly through October on Saturdays at 7:00 p.m. in Dr. Thompson Park on the corner of Main St and Johnson St in Hardy\, AR.
URL:https://www.ozarkgateway.com/event/846786/2026-10-03/
LOCATION:Dr. Thompson Park
END:VEVENT
BEGIN:VEVENT
DTSTART;TZID=America/Chicago:20261003T190000
DTEND;TZID=America/Chicago:20261003T230000
DTSTAMP:20260422T025612
CREATED:20260404T165304Z
LAST-MODIFIED:20260404T165304Z
UID:10000846-1791054000-1791068400@www.ozarkgateway.com
SUMMARY:Bethesda Haunted House
DESCRIPTION:  \nBethesda will be having their annual haunted house every Friday and Saturday night in October including Halloween Night. Tickets are $10 a person and doors open at 7pm.
URL:https://www.ozarkgateway.com/event/bethesda-haunted-house/2026-10-03/
END:VEVENT
BEGIN:VEVENT
DTSTART;TZID=America/Chicago:20261009T190000
DTEND;TZID=America/Chicago:20261009T230000
DTSTAMP:20260422T025612
CREATED:20260404T165304Z
LAST-MODIFIED:20260404T165304Z
UID:10000847-1791572400-1791586800@www.ozarkgateway.com
SUMMARY:Bethesda Haunted House
DESCRIPTION:  \nBethesda will be having their annual haunted house every Friday and Saturday night in October including Halloween Night. Tickets are $10 a person and doors open at 7pm.
URL:https://www.ozarkgateway.com/event/bethesda-haunted-house/2026-10-09/
END:VEVENT
BEGIN:VEVENT
DTSTART;TZID=America/Chicago:20261010T080000
DTEND;TZID=America/Chicago:20261010T120000
DTSTAMP:20260422T025612
CREATED:20260416T190330Z
LAST-MODIFIED:20260416T190330Z
UID:10000889-1791619200-1791633600@www.ozarkgateway.com
SUMMARY:Cave City Farmers Market
DESCRIPTION:The Cave City Farmers Market will begin in July and end during the holidays. They will be held every Saturday at Leonas Garden from 8 am to Noon.
URL:https://www.ozarkgateway.com/event/cave-city-farmers-market/2026-10-10/
END:VEVENT
BEGIN:VEVENT
DTSTART;TZID=America/Chicago:20261010T080000
DTEND;TZID=America/Chicago:20261010T170000
DTSTAMP:20260422T025612
CREATED:20260106T175103Z
LAST-MODIFIED:20260106T175103Z
UID:10000602-1791619200-1791651600@www.ozarkgateway.com
SUMMARY:Calico Rock First Saturday March-November onb Main Street
DESCRIPTION:
URL:https://www.ozarkgateway.com/event/calico-rock-first-saturday-march-november-onb-main-street/2026-10-10/
LOCATION:Calico Rock Main Street\, Main Street - Historical District\, Calico Rock\, AR\, 72519\, United States
END:VEVENT
BEGIN:VEVENT
DTSTART;TZID=America/Chicago:20261010T080000
DTEND;TZID=America/Chicago:20261010T170000
DTSTAMP:20260422T025612
CREATED:20260107T204537Z
LAST-MODIFIED:20260107T204537Z
UID:10000635-1791619200-1791651600@www.ozarkgateway.com
SUMMARY:Hardy Arkansas Music on Main
DESCRIPTION:Memorial Day-October \nMusic on Main \nSaturdays at 7:00 p.m. \nDr. Thompson Park
URL:https://www.ozarkgateway.com/event/hardy-arkansas-music-on-main/2026-10-10/
END:VEVENT
BEGIN:VEVENT
DTSTART;TZID=America/Chicago:20261010T090000
DTEND;TZID=America/Chicago:20261010T130000
DTSTAMP:20260422T025612
CREATED:20260319T083341Z
LAST-MODIFIED:20260319T083341Z
UID:10000804-1791622800-1791637200@www.ozarkgateway.com
SUMMARY:Batesville Farmers Market
DESCRIPTION:Starting April 18\, the Downtown Batesville Farmers Market returns — bringing organic goodness\, local growers\, handmade goods\, and plenty of sunshine back to Main Street.\nGrab your tote bags\, Downtowners… market mornings are almost here.
URL:https://www.ozarkgateway.com/event/batesville-farmers-market/2026-10-10/
END:VEVENT
BEGIN:VEVENT
DTSTART;TZID=America/Chicago:20261010T190000
DTEND;TZID=America/Chicago:20261010T220000
DTSTAMP:20260422T025612
CREATED:20260318T211756Z
LAST-MODIFIED:20260318T211959Z
UID:10000759-1791658800-1791669600@www.ozarkgateway.com
SUMMARY:Music on Main
DESCRIPTION:Two nights of Music on Main in Dr. Thompson Park\, Saturday and Sunday at 7:00 p.m.\, acts to be announced. \nSeason runs weekly through October on Saturdays at 7:00 p.m. in Dr. Thompson Park on the corner of Main St and Johnson St in Hardy\, AR.
URL:https://www.ozarkgateway.com/event/846786/2026-10-10/
LOCATION:Dr. Thompson Park
END:VEVENT
END:VCALENDAR