BEGIN:VCALENDAR
VERSION:2.0
PRODID:-//Ozark Gateway - ECPv6.15.20//NONSGML v1.0//EN
CALSCALE:GREGORIAN
METHOD:PUBLISH
X-ORIGINAL-URL:https://www.ozarkgateway.com
X-WR-CALDESC:Events for Ozark Gateway
REFRESH-INTERVAL;VALUE=DURATION:PT1H
X-Robots-Tag:noindex
X-PUBLISHED-TTL:PT1H
BEGIN:VTIMEZONE
TZID:America/Chicago
BEGIN:DAYLIGHT
TZOFFSETFROM:-0600
TZOFFSETTO:-0500
TZNAME:CDT
DTSTART:20260308T080000
END:DAYLIGHT
BEGIN:STANDARD
TZOFFSETFROM:-0500
TZOFFSETTO:-0600
TZNAME:CST
DTSTART:20261101T070000
END:STANDARD
BEGIN:DAYLIGHT
TZOFFSETFROM:-0600
TZOFFSETTO:-0500
TZNAME:CDT
DTSTART:20270314T080000
END:DAYLIGHT
BEGIN:STANDARD
TZOFFSETFROM:-0500
TZOFFSETTO:-0600
TZNAME:CST
DTSTART:20271107T070000
END:STANDARD
BEGIN:DAYLIGHT
TZOFFSETFROM:-0600
TZOFFSETTO:-0500
TZNAME:CDT
DTSTART:20280312T080000
END:DAYLIGHT
BEGIN:STANDARD
TZOFFSETFROM:-0500
TZOFFSETTO:-0600
TZNAME:CST
DTSTART:20281105T070000
END:STANDARD
END:VTIMEZONE
BEGIN:VEVENT
DTSTART;TZID=America/Chicago:20270403T080000
DTEND;TZID=America/Chicago:20270403T170000
DTSTAMP:20260424T073511
CREATED:20260107T204537Z
LAST-MODIFIED:20260107T204537Z
UID:10000660-1806739200-1806771600@www.ozarkgateway.com
SUMMARY:Hardy Arkansas Music on Main
DESCRIPTION:Memorial Day-October \nMusic on Main \nSaturdays at 7:00 p.m. \nDr. Thompson Park
URL:https://www.ozarkgateway.com/event/hardy-arkansas-music-on-main/2027-04-03/
END:VEVENT
BEGIN:VEVENT
DTSTART;TZID=America/Chicago:20270410T080000
DTEND;TZID=America/Chicago:20270410T170000
DTSTAMP:20260424T073511
CREATED:20260107T204537Z
LAST-MODIFIED:20260107T204537Z
UID:10000661-1807344000-1807376400@www.ozarkgateway.com
SUMMARY:Hardy Arkansas Music on Main
DESCRIPTION:Memorial Day-October \nMusic on Main \nSaturdays at 7:00 p.m. \nDr. Thompson Park
URL:https://www.ozarkgateway.com/event/hardy-arkansas-music-on-main/2027-04-10/
END:VEVENT
BEGIN:VEVENT
DTSTART;TZID=America/Chicago:20270417T080000
DTEND;TZID=America/Chicago:20270417T170000
DTSTAMP:20260424T073511
CREATED:20260107T204537Z
LAST-MODIFIED:20260107T204537Z
UID:10000662-1807948800-1807981200@www.ozarkgateway.com
SUMMARY:Hardy Arkansas Music on Main
DESCRIPTION:Memorial Day-October \nMusic on Main \nSaturdays at 7:00 p.m. \nDr. Thompson Park
URL:https://www.ozarkgateway.com/event/hardy-arkansas-music-on-main/2027-04-17/
END:VEVENT
BEGIN:VEVENT
DTSTART;TZID=America/Chicago:20270424T080000
DTEND;TZID=America/Chicago:20270424T170000
DTSTAMP:20260424T073511
CREATED:20260107T204537Z
LAST-MODIFIED:20260107T204537Z
UID:10000663-1808553600-1808586000@www.ozarkgateway.com
SUMMARY:Hardy Arkansas Music on Main
DESCRIPTION:Memorial Day-October \nMusic on Main \nSaturdays at 7:00 p.m. \nDr. Thompson Park
URL:https://www.ozarkgateway.com/event/hardy-arkansas-music-on-main/2027-04-24/
END:VEVENT
END:VCALENDAR